BEGIN:VCALENDAR
VERSION:2.0
PRODID:-//hacksw/handcal//NONSGML v1.0//EN
BEGIN:VEVENT
SUMMARY:Challenge KORRIGAN Rimfire 22lr
UID:c8ea70e9-5294-4d9b-88d4-3883454c7641
DTSTART:20260516T060000Z
DTEND:20260516T160000Z
LOCATION:Localisation   
CATEGORIES:Sportif
STATUS:
DESCRIPTION:<p class="Standard" style="text-align:justify;"><span
 style="font-size:12pt;"><span><span style="font-family:'Liberation
 Serif', serif;"><span class="StrongEmphasis"
 style="font-weight:bold;"><span style="font-family:'Times New Roman',
 serif;">Les competiteurs de tir au fusil de precision participent a
 l’epreuve en equipe de deux, un tireur tire pendant que l’autre
 observe et corrige le tir.</span></span></span></span></span></p>
 
 <p
 class="Standard" style="text-align:justify;"><span
 style="font-size:12pt;"><span><span style="font-family:'Liberation
 Serif', serif;"><span style="font-family:'Times New Roman',
 serif;">Chaque membre de l’equipe peut choisir de tirer avec un ou
 deux fusils.</span></span></span></span></p>
 
 <p class="Standard"
 style="text-align:justify;"><span style="font-size:12pt;"><span><span
 style="font-family:'Liberation Serif', serif;"><span
 style="font-family:'Times New Roman', serif;">Le spotter <span
 class="StrongEmphasis" style="font-weight:bold;">ne peut en aucun cas
 manipuler</span> l’arme, les munitions ou tout equipement
 appartenant au tireur durant la sequence de
 tir.</span></span></span></span></p>
 
 <p class="Standard"
 style="text-align:justify;"><span style="font-size:16pt;"><span><span
 style="font-family:'Liberation Serif', serif;"><span
 class="StrongEmphasis" style="font-weight:bold;"><span
 style="font-size:12pt;"><span><span style="font-family:'Times New
 Roman', serif;"><span style="font-weight:normal;">Armes autorisees
 :</span></span></span></span></span></span></span></span></p>
 
 <p
 class="Standard" style="text-align:justify;"><span
 style="font-size:12pt;"><span><span><span
 style="font-family:'Liberation Serif', serif;"><span
 style="font-family:'Times New Roman', serif;">Carabines a repetition
 manuelle, de <span class="StrongEmphasis"
 style="font-weight:bold;">calibre .22 Long Rifle</span>, equipees
 d’une lunette.</span></span></span></span></span></p>
 
 <p
 class="Standard" style="text-align:justify;"><span
 style="font-size:12pt;"><span><span><span
 style="font-family:'Liberation Serif', serif;"><span
 class="StrongEmphasis" style="font-weight:bold;"><span
 style="font-family:'Times New Roman', serif;">Aucune limite de
 poids</span></span><span style="font-family:'Times New Roman',
 serif;"> n’est imposee.</span></span></span></span></span></p>
 
 <p
 class="Standard" style="text-align:justify;"><u><strong><span
 style="font-size:12pt;"><span><span><span
 style="font-family:'Liberation Serif', serif;"><span
 style="font-family:'Times New Roman', serif;">Deroulement de la
 competition
 :</span></span></span></span></span></strong></u></p>
 
 <ul>
 	<li
 class="Textbody" style="text-align:justify;"><span
 style="font-size:12pt;"><span><span><span
 style="font-family:'Liberation Serif', serif;"><span
 class="StrongEmphasis" style="font-weight:bold;"><span
 style="font-family:'Times New Roman', serif;">1 tir sur un gong Cold
 -bord rond a 195
 m</span></span></span></span></span></span></li>
 	<li
 class="Textbody" style="text-align:justify;"><span
 style="font-size:12pt;"><span><span><span
 style="font-family:'Liberation Serif', serif;"><span
 class="StrongEmphasis" style="font-weight:bold;"><span
 style="font-family:'Times New Roman', serif;">3 tirs sur le
 1<sup>er</sup> gong de 20 x 20 a 215
 m</span></span></span></span></span></span></li>
 	<li
 class="Textbody" style="text-align:justify;"><span
 style="font-size:12pt;"><span><span><span
 style="font-family:'Liberation Serif', serif;"><span
 style="font-family:'Times New Roman', serif;">3 tirs sur le 2ᵉ gong
 de 20 x 20 a <span class="StrongEmphasis"
 style="font-weight:bold;">245
 m</span></span></span></span></span></span></li>
 	<li
 class="Textbody" style="text-align:justify;"><span
 style="font-size:12pt;"><span><span><span
 style="font-family:'Liberation Serif', serif;"><span
 style="font-family:'Times New Roman', serif;">3 tirs sur le 3ᵉ gong
 de 30 x 30 a <span class="StrongEmphasis"
 style="font-weight:bold;">315
 m</span></span></span></span></span></span></li>
 	<li
 class="Textbody" style="text-align:justify;"><span
 style="font-size:12pt;"><span><span><span
 style="font-family:'Liberation Serif', serif;"><span
 style="font-family:'Times New Roman', serif;">3 tirs sur le 4ᵉ gong
 de 30 x 30 a <span class="StrongEmphasis"
 style="font-weight:bold;">345
 m</span></span></span></span></span></span></li>
 	<li
 class="Textbody" style="text-align:justify;"><span
 style="font-size:12pt;"><span><span><span
 style="font-family:'Liberation Serif', serif;"><span
 style="font-family:'Times New Roman', serif;">4 tirs sur le 5ᵉ gong
 de 40 x 40 a <span class="StrongEmphasis"
 style="font-weight:bold;">405
 m</span></span></span></span></span></span></li>
 	<li
 class="Textbody" style="text-align:justify;"><span
 style="font-size:12pt;"><span><span><span
 style="font-family:'Liberation Serif', serif;"><span
 style="font-family:'Times New Roman', serif;">4 tirs sur le 6ᵉ gong
 de 40 x 40 a <span class="StrongEmphasis"
 style="font-weight:bold;">445
 m</span></span></span></span></span></span></li>
 	<li
 class="Textbody" style="text-align:justify;"><span
 style="font-size:12pt;"><span><span><span
 style="font-family:'Liberation Serif', serif;"><span
 style="font-family:'Times New Roman', serif;">5 tirs sur le 7ᵉ gong
 de 50 x 50 a <span class="StrongEmphasis"
 style="font-weight:bold;">500
 m</span></span></span></span></span></span></li>
 	<li
 class="Textbody" style="text-align:justify;"><span
 style="font-size:12pt;"><span><span><span
 style="font-family:'Liberation Serif', serif;"><span
 style="font-family:'Times New Roman', serif;">5 tirs sur le 8ᵉ gong
 de 50 x 50 a <span class="StrongEmphasis"
 style="font-weight:bold;">515
 m</span></span></span></span></span></span></li>
 </ul>
URL;VALUE=URI:https://csc3tir.sportsregions.fr/evenements/2026/05/16/challenge-korrigan-rimfire-22lr-2443682
END:VEVENT
BEGIN:VEVENT
SUMMARY:Challenge club tous calibres
UID:221f822d-1168-49eb-88c8-19121c2b7b5d
DTSTART:20260530T060000Z
DTEND:20260530T160000Z
LOCATION:Localisation   
CATEGORIES:Sportif
STATUS:
DESCRIPTION:<p style="text-align:justify;"><span
 style="font-size:11pt;"><span><span style="font-family:Calibri,
 sans-serif;"><span style="font-size:12pt;"><span
 style="font-family:'Times New Roman', serif;">La section tir du Club
 Sportif et Culturel du 3° RIMa de Vannes (CSC3), organise son 8eme
 challenge club le samedi 30 mai 2026 au stand exterieur CT01 du camp
 de Meucon.</span></span></span></span></span></p>
 
 <p><span
 style="font-size:11pt;"><span><span style="font-family:Calibri,
 sans-serif;"><b><u><span style="font-size:12pt;"><span
 style="font-family:'Times New Roman', serif;">Le challenge portera
 sur les distances et les categories d’armes
 suivantes</span></span></u></b><span style="font-size:12pt;"><span
 style="font-family:'Times New Roman', serif;"> :
 </span></span></span></span></span></p>
 
 <p><span
 style="font-size:11pt;"><span><span style="font-family:Calibri,
 sans-serif;"><span style="font-size:12pt;"><span
 style="font-family:'Times New Roman', serif;">Les heures indiquees
 sont les heures de debut de
 match.</span></span></span></span></span></p>
 
 <p><span
 style="font-size:11pt;"><span><span style="font-family:Calibri,
 sans-serif;"><u><span style="font-size:12pt;"><span
 style="font-family:'Times New Roman', serif;">Challenge 1 : 25 m
 revolver
 :</span></span></u></span></span></span></p>
 
 <ul>
 	<li><span
 style="font-size:11pt;"><span><span style="font-family:Calibri,
 sans-serif;"><span style="font-size:12pt;"><span
 style="font-family:'Times New Roman', serif;"> Cible C50 : <b>Armes
 de poing tous calibres (point rouge
 autorise)</b></span></span></span></span></span></li>
 </ul>
 
 <p><span
 style="font-size:11pt;"><span><span style="font-family:Calibri,
 sans-serif;"><u><span style="font-size:12pt;"><span
 style="font-family:'Times New Roman', serif;">Challenge 2 : 25 m
 pistolet
 :</span></span></u></span></span></span></p>
 
 <ul>
 	<li><span
 style="font-size:11pt;"><span><span style="font-family:Calibri,
 sans-serif;"><span style="font-size:12pt;"><span
 style="font-family:'Times New Roman', serif;"> Cible C50 : <b>Armes
 de poing tous calibres (point rouge
 autorise)</b></span></span></span></span></span></li>
 </ul>
 
 <p><span
 style="font-size:11pt;"><span><span style="font-family:Calibri,
 sans-serif;"><u><span style="font-size:12pt;"><span
 style="font-family:'Times New Roman', serif;">Challenge 3 : a 100
 m</span></span></u><span style="font-size:12pt;"><span
 style="font-family:'Times New Roman',
 serif;"> :</span></span></span></span></span></p>
 
 <ul>
 	<li><span
 style="font-size:11pt;"><span><span style="font-family:Calibri,
 sans-serif;"><span style="font-size:12pt;"><span
 style="font-family:'Times New Roman', serif;">Cible C50 :
 <b>Carabine 22 LR visee
 ouverte</b></span></span></span></span></span></li>
 </ul>
 
 <p><span
 style="font-size:11pt;"><span><span style="font-family:Calibri,
 sans-serif;"><u><span style="font-size:12pt;"><span
 style="font-family:'Times New Roman', serif;">Challenge 4 : a
 200 m :</span></span></u></span></span></span></p>
 
 <ul>
 	<li><span
 style="font-size:11pt;"><span><span style="font-family:Calibri,
 sans-serif;"><span style="font-size:12pt;"><span
 style="font-family:'Times New Roman', serif;">Cibles C200 :
 <b>Carabine 22 LR avec
 lunette</b></span></span></span></span></span></li>
 </ul>
 
 <p><span
 style="font-size:11pt;"><span><span style="font-family:Calibri,
 sans-serif;"><u><span style="font-size:12pt;"><span
 style="font-family:'Times New Roman', serif;">Challenge 5 : a 200
 m :</span></span></u></span></span></span></p>
 
 <ul>
 	<li><span
 style="font-size:11pt;"><span><span style="font-family:Calibri,
 sans-serif;"><span style="font-size:12pt;"><span
 style="font-family:'Times New Roman', serif;">Cible C200 : <b>Armes
 tous calibre sauf 22 LR visee ouverte sans lunette ni
 dioptre</b>.</span></span></span></span></span></li>
 </ul>
 
 <p><span
 style="font-size:11pt;"><span><span style="font-family:Calibri,
 sans-serif;"><u><span style="font-size:12pt;"><span
 style="font-family:'Times New Roman', serif;">Challenge 6 : Combine
 400/600
 m :</span></span></u></span></span></span></p>
 
 <ul>
 	<li><span
 style="font-size:11pt;"><span><span style="font-family:Calibri,
 sans-serif;"><span style="font-size:12pt;"><span
 style="font-family:'Times New Roman', serif;">400 m sur cible
 C200<b> :</b> <b>Armes tous calibres avec lunette sauf
 22lr</b></span></span></span></span></span></li>
 	<li><span
 style="font-size:11pt;"><span><span style="font-family:Calibri,
 sans-serif;"><span style="font-size:12pt;"><span
 style="font-family:'Times New Roman', serif;"> 600 m sur cible
 C200<b> :</b> <b>Armes tous calibres avec lunette sauf
 22lr</b></span></span></span></span></span></li>
 </ul>
 
 <p><span
 style="font-size:11pt;"><span><span style="font-family:Calibri,
 sans-serif;"><span style="font-size:12pt;"><span
 style="font-family:'Times New Roman', serif;">Le resultat du combine
 se fera sur le total des 20 meilleurs
 impacts.</span></span></span></span></span></p>
URL;VALUE=URI:https://csc3tir.sportsregions.fr/evenements/2026/05/30/challenge-club-tous-calibres-2443703
END:VEVENT
END:VCALENDAR
